Workbook

Sheet Plantilla
A1: PRIMER TRIMESTRE
A2: Mes | B2: Tipo de solicitud | C2: Mes | D2: Tipo de solicitud | E2: Mes | F2: Tipo de solicitud | H2: tipos
A3: Enero | C3: Febrero | E3: Marzo | H3: Presencial
A4: Enero | C4: Febrero | E4: Marzo | H4: Correo Electrónico
A5: Enero | C5: Febrero | E5: Marzo | H5: SAIP
A6: Enero | C6: Febrero | E6: Marzo
A7: Enero | C7: Febrero | E7: Marzo
A8: Enero | C8: Febrero | E8: Marzo
A9: Enero | C9: Febrero | E9: Marzo
A10: Enero | C10: Febrero | E10: Marzo
A11: Enero | C11: Febrero | E11: Marzo
A12: Enero | C12: Febrero | E12: Marzo
A14: SEGUNDO TRIMESTRE
A15: Mes | B15: Tipo de solicitud | C15: Mes | D15: Tipo de solicitud | E15: Mes | F15: Tipo de solicitud
A16: Abril | B16: SAIP | C16: Mayo | E16: Junio
A17: Abril | C17: Mayo | E17: Junio
A18: Abril | C18: Mayo | E18: Junio
A19: Abril | C19: Mayo | E19: Junio
A20: Abril | C20: Mayo | E20: Junio
A21: Abril | C21: Mayo | E21: Junio
A22: Abril | C22: Mayo | E22: Junio
A23: Abril | C23: Mayo | E23: Junio
A24: Abril | C24: Mayo | E24: Junio
A25: Abril | C25: Mayo | E25: Junio
A27: TERCER TRIMESTRE
A28: Mes | B28: Tipo de solicitud | C28: Mes | D28: Tipo de solicitud | E28: Mes | F28: Tipo de solicitud
A29: Julio | C29: Agosto | E29: Septiembre
A30: Julio | C30: Agosto | E30: Septiembre
A31: Julio | C31: Agosto | E31: Septiembre
A32: Julio | C32: Agosto | E32: Septiembre
A33: Julio | C33: Agosto | E33: Septiembre
A34: Julio | C34: Agosto | E34: Septiembre
A35: Julio | C35: Agosto | E35: Septiembre
A36: Julio | C36: Agosto | E36: Septiembre
A37: Julio | C37: Agosto | E37: Septiembre
A38: Julio | C38: Agosto | E38: Septiembre
A40: CUARTO TRIMESTRE
A41: Mes | B41: Tipo de solicitud | C41: Mes | D41: Tipo de solicitud | E41: Mes | F41: Tipo de solicitud
A42: Octubre | C42: Noviembre | D42: SAIP | E42: Diciembre | F42: SAIP
A43: Octubre | C43: Noviembre | E43: Diciembre | F43: SAIP
A44: Octubre | C44: Noviembre | E44: Diciembre
A45: Octubre | C45: Noviembre | E45: Diciembre
A46: Octubre | C46: Noviembre | E46: Diciembre
A47: Octubre | C47: Noviembre | E47: Diciembre
A48: Octubre | C48: Noviembre | E48: Diciembre
A49: Octubre | C49: Noviembre | E49: Diciembre
A50: Octubre | C50: Noviembre | E50: Diciembre
A51: Octubre | C51: Noviembre | E51: Diciembre

Sheet Informe General
B2: Solicitudes Recibidas en 2025
B3: Trimestre | C3: Mes | D3: Total Solicitudes Recibidas | E3: Presencial | F3: Correo Electrónico | G3: SAIP
B4: Primero | C4: Enero | D4: =SUM(E4:G4) -> 0 | E4: ='1er Trimestre'!$E$4 -> 0 | F4: ='1er Trimestre'!$F$4 -> 0 | G4: ='1er Trimestre'!$G$4 -> 0
C5: Febrero | D5: =SUM(E5:G5) -> 2 | E5: ='1er Trimestre'!$E$5 -> 0 | F5: ='1er Trimestre'!$F$5 -> 0 | G5: ='1er Trimestre'!$G$5 -> 2
C6: Marzo | D6: =SUM(E6:G6) -> 0 | E6: ='1er Trimestre'!$E$6 -> 0 | F6: ='1er Trimestre'!$F$6 -> 0 | G6: ='1er Trimestre'!$G$6 -> 0
B7: Segundo | C7: Abril | D7: =SUM(E7:G7) -> 1 | E7: ='2do Trimestre'!$E$4 -> 0 | F7: ='2do Trimestre'!$F$4 -> 0 | G7: ='2do Trimestre'!$G$4 -> 1
C8: Mayo | D8: =SUM(E8:G8) -> 0 | E8: ='2do Trimestre'!$E$5 -> 0 | F8: ='2do Trimestre'!$F$5 -> 0 | G8: ='2do Trimestre'!$G$5 -> 0
C9: Junio | D9: =SUM(E9:G9) -> 2 | E9: ='2do Trimestre'!$E$6 -> 0 | F9: ='2do Trimestre'!$F$6 -> 0 | G9: ='2do Trimestre'!$G$6 -> 2
B10: Tercero | C10: Julio | D10: =SUM(E10:G10) -> 0 | E10: ='3er Trimestre'!$E$4 -> 0 | F10: ='3er Trimestre'!$F$4 -> 0 | G10: ='3er Trimestre'!$G$4 -> 0
C11: Agosto | D11: =SUM(E11:G11) -> 0 | E11: ='3er Trimestre'!$E$5 -> 0 | F11: ='3er Trimestre'!$F$5 -> 0 | G11: ='3er Trimestre'!$G$5 -> 0
C12: Septiembre | D12: =SUM(E12:G12) -> 0 | E12: ='3er Trimestre'!$E$6 -> 0 | F12: ='3er Trimestre'!$F$6 -> 0 | G12: ='3er Trimestre'!$G$6 -> 0
B13: Cuarto | C13: Octubre | D13: =SUM(E13:G13) -> 0 | E13: ='4to Trimestre'!$E$4 -> 0 | F13: ='4to Trimestre'!$F$4 -> 0 | G13: ='4to Trimestre'!$G$4 -> 0
C14: Noviembre | D14: =SUM(E14:G14) -> 0 | E14: ='4to Trimestre'!$E$5 -> 0 | F14: ='4to Trimestre'!$F$5 -> 0 | G14: ='4to Trimestre'!$G$5 -> 0
C15: Diciembre | D15: =SUM(E15:G15) -> 0 | E15: ='4to Trimestre'!$E$6 -> 0 | F15: ='4to Trimestre'!$F$6 -> 0 | G15: ='4to Trimestre'!$G$6 -> 0
C16: Total | D16: =SUM(D4:D15) -> 5
C17: 0
C18: Promedio de solicitudes del año | F18: =AVERAGE(D4:D15) -> 0.41666667

Sheet 1er Trimestre
B2: Solicitudes Recibidas en el Primer Trimestre 2026
B3: Trimestre | C3: Mes | D3: Total Solicitudes Recibidas | E3: Presencial | F3: Correo Electrónico | G3: SAIP
B4: Primero | C4: Enero | D4: 0 | E4: 0 | F4: 0 | G4: 0
C5: Febrero | D5: 2 | E5: 0 | F5: 0 | G5: 2
C6: Marzo | D6: 0 | E6: 0 | F6: 0 | G6: 0
C7: Total | D7: 2
C8: 0
C9: Promedio de solicitudes del trimestre | F9: =AVERAGE(D4:D6) -> 0.66666667
B33: Eliseo Reyes Pérez
B34: Responsable Oficina de Libre Acceso a la
B35: Información, IDEICE

Sheet 2do Trimestre
B2: Solicitudes Recibidas Segundo Trimestre 2026
B3: Trimestre | C3: Mes | D3: Total Solicitudes Recibidas | E3: Presencial | F3: Correo Electrónico | G3: SAIP
B4: Segundo 2026 | C4: Abril | D4: 1 | E4: 0 | F4: 0 | G4: 1
C5: Mayo | D5: 0 | E5: 0 | F5: 0 | G5: 0
C6: Junio | D6: 2 | E6: 0 | F6: 0 | G6: 2
C7: Total | D7: 3
C9: Promedio de solicitudes del trimestre | F9: =AVERAGE(D4:D6) -> 1
B35: Eliseo Reyes Pérez
B36: Responsable Oficina de Libre Acceso a la
B37: Información, IDEICE

Sheet 3er Trimestre
B2: Solicitudes recibidas Tercer Trimestre 2026
B3: Trimestre | C3: Mes | D3: Total Solicitudes Recibidas | E3: Presencial | F3: Correo Electrónico | G3: SAIP
B4: Tercero 2026 | C4: Julio | D4: 0 | E4: 0 | F4: 0 | G4: 0
C5: Agosto | D5: 0 | E5: 0 | F5: 0 | G5: 0
C6: Septiembre | D6: 0 | E6: 0 | F6: 0 | G6: 0
C7: Total | D7: 0
C9: Promedio de solicitudes del trimestre | F9: =AVERAGE(D4:D6) -> 0
B31: Eliseo Reyes Pérez
B32: Responsable Oficina de Libre Acceso a la Información, IDEICE.

Sheet 4to Trimestre
B2: Solicitudes Recibidas Cuarto Trimestre 2026
B3: Trimestre | C3: Mes | D3: Total Solicitudes Recibidas | E3: Presencial | F3: Correo Electrónico | G3: SAIP
B4: Cuarto 2026 | C4: Octubre
C5: Noviembre
C6: Diciembre
C7: Total
C8: 0
C9: Promedio de solicitudes del trimestre | F9: =AVERAGE(D4:D6) -> #DIV/0!
B33: Eliseo Reyes Pérez
B34: Responsable Oficina de Libre Acceso a la Información Ideice
